BEGIN:VCALENDAR
VERSION:2.0
PRODID:-//Bolognese Dog Club UK - ECPv6.15.20//NONSGML v1.0//EN
CALSCALE:GREGORIAN
METHOD:PUBLISH
X-ORIGINAL-URL:https://bolognesedogclubuk.co.uk
X-WR-CALDESC:Events for Bolognese Dog Club UK
REFRESH-INTERVAL;VALUE=DURATION:PT1H
X-Robots-Tag:noindex
X-PUBLISHED-TTL:PT1H
BEGIN:VTIMEZONE
TZID:Europe/London
BEGIN:DAYLIGHT
TZOFFSETFROM:+0000
TZOFFSETTO:+0100
TZNAME:BST
DTSTART:20210328T010000
END:DAYLIGHT
BEGIN:STANDARD
TZOFFSETFROM:+0100
TZOFFSETTO:+0000
TZNAME:GMT
DTSTART:20211031T010000
END:STANDARD
BEGIN:DAYLIGHT
TZOFFSETFROM:+0000
TZOFFSETTO:+0100
TZNAME:BST
DTSTART:20220327T010000
END:DAYLIGHT
BEGIN:STANDARD
TZOFFSETFROM:+0100
TZOFFSETTO:+0000
TZNAME:GMT
DTSTART:20221030T010000
END:STANDARD
BEGIN:DAYLIGHT
TZOFFSETFROM:+0000
TZOFFSETTO:+0100
TZNAME:BST
DTSTART:20230326T010000
END:DAYLIGHT
BEGIN:STANDARD
TZOFFSETFROM:+0100
TZOFFSETTO:+0000
TZNAME:GMT
DTSTART:20231029T010000
END:STANDARD
END:VTIMEZONE
BEGIN:VEVENT
DTSTART;VALUE=DATE:20220619
DTEND;VALUE=DATE:20220620
DTSTAMP:20260424T061018
CREATED:20220519T101208Z
LAST-MODIFIED:20220519T101236Z
UID:10857-1655596800-1655683199@bolognesedogclubuk.co.uk
SUMMARY:New Venue for Surrey MEET UP 19th June
DESCRIPTION:We are pleased to announce a new MEET UP location near Reigate in Surrey where we plan to meet on Sunday the 19th of June 2022. One of our club members John Twaites has kindly recommended this venue and made the booking for us. Please RSVP as we must give them final numbers well in advance. We will meet at The Plough in Leigh\, Reigate Surrey at 11.30 (table booked for 12 midday). The pub is doggy friendly and we have booked outside tables to give as plenty of space. If the weather forecast is bad we will probably have to postpone. The website for The Plough in Leigh is www.theploughleigh.co.uk and you can view a menu on the website. \nJohn says there is a lovely circular walk through the churchyard and into the fields beyond for those who need to walk off the lunch. The walk is roughly a mile and ends back at the pub where we could have coffees a drink or a desert! There is a village green next to the pub as well. \nIf you feel you would like to attend the The Plough Leigh get together\, please email us on info@bolognesedogclubuk.co.uk\, or you can phone 07770 798809. Please let us know how many people and how many dogs and everybody’s names (human and canine). \nVENUE ADDRESS\nThe Plough\nChurch Road\nLeigh\nReigate\nSurrey\nRH28NJ \nJust a note to say please keep your dogs under control and if necessary on a lead if behaviours get a bit anti-social as it can happen if they get excited or overwhelmed\, especially the males! CLICK HERE for our MEET UP Guidelines. \nThe Plough is a country Village Pub situated on the village green. Late 14th to 15th Century and dogs are welcome\, with their own watering bowl and biscuit jar! They have a pretty patio garden and decking at the front under the giant umbrella. Sarah Bloomfield has run this pub\, at first with King & Barnes\, but now under a Red Oak Taverns Tenancy\, for 30 years. Still with some of the original members of the staff\, but most of the team have clocked up several years service! \nIf you would like to attend the The Plough Leigh get together\, please email us on info@bolognesedogclubuk.co.uk\, or you can phone 07770 798809. We are also meeting in Greenwich Park London on the 22nd of May and at The Fleur De Lys near Henley-in-Arden on Sunday the 17th of July 2022. A MEET UP in Somerset in the autumn is also planned with the date to be confirmed. All MEET UP dates are in our EVENT section of this website and also please keep an eye on our FACEBOOK PAGE for updated news and views. \nHere are some links to previous MEET UPS \nThe Sun Shone For Bolognese Stratford Canal MEET UP \n5th MEET UP in Somerset \nA Break in The Weather For Chiswick MEET UP \nLondon MEET UP Just Managed to go Ahead \nSuccessful North West MEET UP \nHot Day in London for MEET UP \nBeautiful Setting for Latest MEET UP \nRain Held off for Somerset MEET UP 22nd September 2019 \n17 Bolognese for London MEET UP \n22 Bolognese for Canal MEET UP\n \nOur contact phone number on the day will be 07770 798809 (Melanie). If the weather forecast is really bad\, as is the norm\, we may have to cancel. Hope to see as many Bolognese as possible for a great fun ‘doggy’ day out! \n\n\n\n\nFacebookTwitterPinterestEmailLinkedInShare
URL:https://bolognesedogclubuk.co.uk/event/new-venue-for-surrey-meet-up-19th-june/
LOCATION:The Plough\, Church Road\, Leigh\, Reigate\, Surrey
END:VEVENT
END:VCALENDAR