BEGIN:VCALENDAR
VERSION:2.0
PRODID:-//Bolognese Dog Club UK - ECPv6.15.20//NONSGML v1.0//EN
CALSCALE:GREGORIAN
METHOD:PUBLISH
X-ORIGINAL-URL:https://bolognesedogclubuk.co.uk
X-WR-CALDESC:Events for Bolognese Dog Club UK
REFRESH-INTERVAL;VALUE=DURATION:PT1H
X-Robots-Tag:noindex
X-PUBLISHED-TTL:PT1H
BEGIN:VTIMEZONE
TZID:Europe/London
BEGIN:DAYLIGHT
TZOFFSETFROM:+0000
TZOFFSETTO:+0100
TZNAME:BST
DTSTART:20200329T010000
END:DAYLIGHT
BEGIN:STANDARD
TZOFFSETFROM:+0100
TZOFFSETTO:+0000
TZNAME:GMT
DTSTART:20201025T010000
END:STANDARD
BEGIN:DAYLIGHT
TZOFFSETFROM:+0000
TZOFFSETTO:+0100
TZNAME:BST
DTSTART:20210328T010000
END:DAYLIGHT
BEGIN:STANDARD
TZOFFSETFROM:+0100
TZOFFSETTO:+0000
TZNAME:GMT
DTSTART:20211031T010000
END:STANDARD
BEGIN:DAYLIGHT
TZOFFSETFROM:+0000
TZOFFSETTO:+0100
TZNAME:BST
DTSTART:20220327T010000
END:DAYLIGHT
BEGIN:STANDARD
TZOFFSETFROM:+0100
TZOFFSETTO:+0000
TZNAME:GMT
DTSTART:20221030T010000
END:STANDARD
END:VTIMEZONE
BEGIN:VEVENT
DTSTART;VALUE=DATE:20210620
DTEND;VALUE=DATE:20210621
DTSTAMP:20260424T224742
CREATED:20210520T105947Z
LAST-MODIFIED:20210520T110058Z
UID:9866-1624147200-1624233599@bolognesedogclubuk.co.uk
SUMMARY:MEET UP Chiswick House and Gardens
DESCRIPTION:We are returning to West London and the lovely Chiswick House and Gardens on Burlington Lane\, Chiswick\, London W4 2RP www.chiswickhouseandgardens.org.uk for this years LONDON MEETUP on the 20th June 2021. We went there 2-years ago and really enjoyed it\, we found shade under the trees as it was a hot day. Up to 30 people can officially meet outside now and social distancing between friends and family is discretionary. If the weather forecast is bad\, we will have to cancel. Here is a link to the report for 2-years ago 17 Bolognese for London MEET UP \n \nWe will meet at 11am at the cafe and from there go for a walk and back to the cafe for a bite to eat or a drink. Please email us on info@bolognesedogclubuk.co.uk if you are able to attend and we can look out for you. A mobile number to use on the day is 07770 798809 (Melanie). We will have a raffle and some prizes to be won for different fun activities\, everybody is welcome. If the weather is forecast to be bad\, we will have to postpone. Looking forward to a lovely day in beautiful surroundings and meeting all the Bolognese dogs! \nBY ROAD\nSign-posted from A4 west of Hogarth Roundabout (junction with A316) via brown tourist board signs.\nBY TRAIN\nNearest train station: Chiswick\n13 minute walk to the Burlington Lane Gate\nBY TUBE\nNearest tube station: Turnham Green (District Line) \nThanks to Tina Vadaneaux for suggesting this venue \nHere are some links to previous MEET UPS \nSuccessful North West MEET UP \nHot Day in London for MEET UP \nBeautiful Setting for Latest MEET UP \nRain Held off for Somerset MEET UP 22nd September 2019 \n22 Bolognese for Canal MEET UP \nPlease keep an eye on our FACEBOOK PAGE for updated news and views.
URL:https://bolognesedogclubuk.co.uk/event/meet-up-chiswick-house-and-gardens/
LOCATION:Chiswick House and Gardens\, Burlington Lane\, Chiswick\, LONDON\, W4 2RP\, United Kingdom
ORGANIZER;CN="Bolognese Dog Club UK":MAILTO:info@bolognesedogclubuk.co.uk
END:VEVENT
END:VCALENDAR